BEGIN:VCALENDAR
PRODID:-//Calendar export
VERSION:2.0
X-WR-TIMEZONE:Etc/GMT
BEGIN:VTIMEZONE
TZID:GMT Standard Time
BEGIN:STANDARD
TZOFFSETFROM:+0000
TZOFFSETTO:+0000
END:STANDARD
END:VTIMEZONE
BEGIN:VEVENT
UID:AE79020
DTSTAMP:20260423T211800Z
SUMMARY:Burren Junction Anzac Day Service 2026
CLASS:PUBLIC
DESCRIPTION:
STATUS:CONFIRMED
PRIORITY:1
DTSTART:20260424T140000Z
DTEND:20260425T135900Z
TRANSP:OPAQUE
END:VEVENT
END:VCALENDAR
